BEGIN:VCALENDAR
METHOD:PUBLISH
VERSION:2.0
PRODID:-//Produce Market//Calendar//EN

BEGIN:VEVENT
SUMMARY:Thomasville | Produce Market
DESCRIPTION:
X-ALT-DESC:
UID:Event6894
DTSTART:20231118T140000Z
DTEND:20231118T170000Z
DTSTAMP:20230319T221525Z
LAST-MODIFIED:20230319T221525Z
END:VEVENT

END:VCALENDAR