BEGIN:VCALENDAR
METHOD:PUBLISH
VERSION:2.0
PRODID:-//District Governor's Reception//Calendar//EN

BEGIN:VEVENT
SUMMARY:Thomasville | District Governor's Reception
DESCRIPTION:Join us for a reception honoring our District Governor\, Andre’ Marria. The Business Exchange Building. Please register to attend. 
X-ALT-DESC:<p>Join us for a reception honoring our District Governor, Andre’ Marria. The Business Exchange Building. Please register to attend.&nbsp;</p>
UID:Event7475
DTSTART:20231109T223000Z
DTEND:20231110T000000Z
DTSTAMP:20230306T045748Z
LAST-MODIFIED:20231103T052332Z
END:VEVENT

END:VCALENDAR